Workbook

Sheet 목록
A1: 유휴 공유재산 리스트 누리집 공개
A2: 연번 | B2: 지자체 | C2: 우편번호 | D2: 소재지(지번) | E2: 소재지(도로명) | F2: 토지/건물 | G2: 토지 | K2: 재산구분(행정/일반) | L2: 재산관리관 | M2: 일반재산 | N2: 일반재산 | O2: 사용허가·대부 불가 사유 | P2: 유휴사유코드 | Q2: 유휴사유명 | R2: 유휴사유 상세설명 | S2: 활용계획(예: 대부, 매각, 용도폐지 등) | W2: 오류 검증
G3: (공부상)지목 | H3: 실지목 | I3: (공부상)면적(㎡) | J3: 실면적(㎡) | M3: 대부가능여부 | N3: 대부/매각선택 | Y3: 담당자연락처
D4: =SUBTOTAL(3,D6:D207) -> 202 | I4: =SUBTOTAL(9,I6:I207) -> 214370.1 | Y4: 043-835-3343
A6: 1 | B6: 충북 증평군 | C6: 27936 | D6: 증평읍 증평리 131 | F6: 토지 | G6: 대 | I6: 147 | K6: 일반재산 | L6: 재무과 | M6: x | N6: 해당없음 | O6: 활용불가능 상태 | P6: G05 | Q6: =VLOOKUP(P6,코드!$B$3:$C$10,2) -> 단순 미활용 | R6: 정자 조성 | S6: 필요시 공공사업부지 활용 | U6: =VLOOKUP(K6,코드!$E$3:$F$5,2) -> G | V6: =LEFT(P6,1) -> G | W6: =EXACT(U6,V6) -> TRUE
A7: 2 | B7: 충북 증평군 | C7: 27936 | D7: 증평읍 증평리 133 | F7: 토지 | G7: 대 | I7: 13 | K7: 일반재산 | L7: 재무과 | M7: x | N7: 해당없음 | O7: 활용불가능 상태 | P7: G05 | Q7: =VLOOKUP(P7,코드!$B$3:$C$10,2) -> 단순 미활용 | R7: 화단 조성 | S7: 필요시 공공사업부지 활용 | U7: =VLOOKUP(K7,코드!$E$3:$F$5,2) -> G | V7: =LEFT(P7,1) -> G | W7: =EXACT(U7,V7) -> TRUE
A8: 3 | B8: 충북 증평군 | C8: 27936 | D8: 증평읍 증평리 363 | F8: 토지 | G8: 대 | I8: 149 | K8: 일반재산 | L8: 재무과 | M8: x | N8: 해당없음 | O8: 활용불가능 상태 | P8: G05 | Q8: =VLOOKUP(P8,코드!$B$3:$C$10,2) -> 단순 미활용 | R8: 사면 | S8: 필요시 공공사업부지 활용 | U8: =VLOOKUP(K8,코드!$E$3:$F$5,2) -> G | V8: =LEFT(P8,1) -> G | W8: =EXACT(U8,V8) -> TRUE
A9: 4 | B9: 충북 증평군 | C9: 27936 | D9: 증평읍 증평리 364 | F9: 토지 | G9: 대 | I9: 122 | K9: 일반재산 | L9: 재무과 | M9: x | N9: 해당없음 | O9: 활용불가능 상태 | P9: G05 | Q9: =VLOOKUP(P9,코드!$B$3:$C$10,2) -> 단순 미활용 | R9: 사면 | S9: 필요시 공공사업부지 활용 | U9: =VLOOKUP(K9,코드!$E$3:$F$5,2) -> G | V9: =LEFT(P9,1) -> G | W9: =EXACT(U9,V9) -> TRUE
A10: 5 | B10: 충북 증평군 | C10: 27936 | D10: 증평읍 증평리 422-1 | F10: 토지 | G10: 대 | I10: 16 | K10: 일반재산 | L10: 재무과 | M10: o | N10: 대부대상 | P10: G05 | Q10: =VLOOKUP(P10,코드!$B$3:$C$10,2) -> 단순 미활용 | R10: 미활용 | S10: 대부 또는 공공사업부지 활용 | U10: =VLOOKUP(K10,코드!$E$3:$F$5,2) -> G | V10: =LEFT(P10,1) -> G | W10: =EXACT(U10,V10) -> TRUE
A11: 6 | B11: 충북 증평군 | C11: 27936 | D11: 증평읍 증평리 424 | F11: 토지 | G11: 대 | I11: 270.9 | K11: 일반재산 | L11: 재무과 | M11: o | N11: 대부대상 | P11: G05 | Q11: =VLOOKUP(P11,코드!$B$3:$C$10,2) -> 단순 미활용 | R11: 미활용 | S11: 대부 또는 공공사업부지 활용 | U11: =VLOOKUP(K11,코드!$E$3:$F$5,2) -> G | V11: =LEFT(P11,1) -> G | W11: =EXACT(U11,V11) -> TRUE
A12: 7 | B12: 충북 증평군 | C12: 27936 | D12: 증평읍 증평리 425 | F12: 토지 | G12: 대 | I12: 181.1 | K12: 일반재산 | L12: 재무과 | M12: x | N12: 해당없음 | O12: 활용불가능 상태 | P12: G05 | Q12: =VLOOKUP(P12,코드!$B$3:$C$10,2) -> 단순 미활용 | R12: 사면 | S12: 필요시 공공사업부지 활용 | U12: =VLOOKUP(K12,코드!$E$3:$F$5,2) -> G | V12: =LEFT(P12,1) -> G | W12: =EXACT(U12,V12) -> TRUE
A13: 8 | B13: 충북 증평군 | C13: 27936 | D13: 증평읍 증평리 428 | F13: 토지 | G13: 대 | I13: 243.3 | K13: 일반재산 | L13: 재무과 | M13: x | N13: 해당없음 | O13: 활용불가능 상태 | P13: G05 | Q13: =VLOOKUP(P13,코드!$B$3:$C$10,2) -> 단순 미활용 | R13: 사면 | S13: 필요시 공공사업부지 활용 | U13: =VLOOKUP(K13,코드!$E$3:$F$5,2) -> G | V13: =LEFT(P13,1) -> G | W13: =EXACT(U13,V13) -> TRUE
A14: 9 | B14: 충북 증평군 | C14: 27936 | D14: 증평읍 증평리 428-1 | F14: 토지 | G14: 전 | I14: 45.5 | K14: 일반재산 | L14: 재무과 | M14: x | N14: 해당없음 | O14: 활용불가능 상태 | P14: G05 | Q14: =VLOOKUP(P14,코드!$B$3:$C$10,2) -> 단순 미활용 | R14: 사면 | S14: 필요시 공공사업부지 활용 | U14: =VLOOKUP(K14,코드!$E$3:$F$5,2) -> G | V14: =LEFT(P14,1) -> G | W14: =EXACT(U14,V14) -> TRUE
A15: 10 | B15: 충북 증평군 | C15: 27936 | D15: 증평읍 증평리 462 | F15: 토지 | G15: 대 | I15: 137.3 | K15: 일반재산 | L15: 재무과 | M15: x | N15: 해당없음 | O15: 활용불가능 상태 | P15: G05 | Q15: =VLOOKUP(P15,코드!$B$3:$C$10,2) -> 단순 미활용 | R15: 정자 조성 | S15: 필요시 공공사업부지 활용 | U15: =VLOOKUP(K15,코드!$E$3:$F$5,2) -> G | V15: =LEFT(P15,1) -> G | W15: =EXACT(U15,V15) -> TRUE
A16: 11 | B16: 충북 증평군 | C16: 27936 | D16: 증평읍 증평리 462-1 | F16: 토지 | G16: 대 | I16: 41.5 | K16: 일반재산 | L16: 재무과 | M16: x | N16: 해당없음 | O16: 활용불가능 상태 | P16: G05 | Q16: =VLOOKUP(P16,코드!$B$3:$C$10,2) -> 단순 미활용 | R16: 마을 통행로 | S16: 필요시 공공사업부지 활용 | U16: =VLOOKUP(K16,코드!$E$3:$F$5,2) -> G | V16: =LEFT(P16,1) -> G | W16: =EXACT(U16,V16) -> TRUE
A17: 12 | B17: 충북 증평군 | C17: 27936 | D17: 증평읍 증평리 492-1 | F17: 토지 | G17: 전 | I17: 6.8 | K17: 일반재산 | L17: 재무과 | M17: o | N17: 대부대상 | P17: G05 | Q17: =VLOOKUP(P17,코드!$B$3:$C$10,2) -> 단순 미활용 | R17: 미활용 | S17: 대부 또는 공공사업부지 활용 | U17: =VLOOKUP(K17,코드!$E$3:$F$5,2) -> G | V17: =LEFT(P17,1) -> G | W17: =EXACT(U17,V17) -> TRUE
A18: 13 | B18: 충북 증평군 | C18: 27936 | D18: 증평읍 증평리 697 | F18: 토지 | G18: 대 | I18: 137 | K18: 일반재산 | L18: 재무과 | M18: x | N18: 해당없음 | O18: 활용불가능 상태 | P18: G05 | Q18: =VLOOKUP(P18,코드!$B$3:$C$10,2) -> 단순 미활용 | R18: 정자 조성 | S18: 필요시 공공사업부지 활용 | U18: =VLOOKUP(K18,코드!$E$3:$F$5,2) -> G | V18: =LEFT(P18,1) -> G | W18: =EXACT(U18,V18) -> TRUE
A19: 14 | B19: 충북 증평군 | C19: 27937 | D19: 증평읍 신동리 437 | F19: 토지 | G19: 대 | I19: 37 | K19: 일반재산 | L19: 재무과 | M19: x | N19: 해당없음 | O19: 활용불가능 상태 | P19: G05 | Q19: =VLOOKUP(P19,코드!$B$3:$C$10,2) -> 단순 미활용 | R19: 사면 | S19: 필요시 공공사업부지 활용 | U19: =VLOOKUP(K19,코드!$E$3:$F$5,2) -> G | V19: =LEFT(P19,1) -> G | W19: =EXACT(U19,V19) -> TRUE
A20: 15 | B20: 충북 증평군 | C20: 27931 | D20: 증평읍 교동리 77-61 | F20: 토지 | G20: 대 | I20: 11.6 | K20: 일반재산 | L20: 재무과 | M20: x | N20: 해당없음 | O20: 활용불가능 상태 | P20: G05 | Q20: =VLOOKUP(P20,코드!$B$3:$C$10,2) -> 단순 미활용 | R20: 통행로 이용 | S20: 필요시 공공사업부지 활용 | U20: =VLOOKUP(K20,코드!$E$3:$F$5,2) -> G | V20: =LEFT(P20,1) -> G | W20: =EXACT(U20,V20) -> TRUE
A21: 16 | B21: 충북 증평군 | C21: 27931 | D21: 증평읍 교동리 77-62 | F21: 토지 | G21: 대 | I21: 17.9 | K21: 일반재산 | L21: 재무과 | M21: x | N21: 해당없음 | O21: 활용불가능 상태 | P21: G05 | Q21: =VLOOKUP(P21,코드!$B$3:$C$10,2) -> 단순 미활용 | R21: 통행로 이용 | S21: 필요시 공공사업부지 활용 | U21: =VLOOKUP(K21,코드!$E$3:$F$5,2) -> G | V21: =LEFT(P21,1) -> G | W21: =EXACT(U21,V21) -> TRUE
A22: 17 | B22: 충북 증평군 | C22: 27931 | D22: 증평읍 교동리 77-63 | F22: 토지 | G22: 대 | I22: 17.9 | K22: 일반재산 | L22: 재무과 | M22: x | N22: 해당없음 | O22: 활용불가능 상태 | P22: G05 | Q22: =VLOOKUP(P22,코드!$B$3:$C$10,2) -> 단순 미활용 | R22: 통행로 이용 | S22: 필요시 공공사업부지 활용 | U22: =VLOOKUP(K22,코드!$E$3:$F$5,2) -> G | V22: =LEFT(P22,1) -> G | W22: =EXACT(U22,V22) -> TRUE
A23: 18 | B23: 충북 증평군 | C23: 27931 | D23: 증평읍 교동리 77-64 | F23: 토지 | G23: 대 | I23: 5.3 | K23: 일반재산 | L23: 재무과 | M23: x | N23: 해당없음 | O23: 활용불가능 상태 | P23: G05 | Q23: =VLOOKUP(P23,코드!$B$3:$C$10,2) -> 단순 미활용 | R23: 통행로 이용 | S23: 필요시 공공사업부지 활용 | U23: =VLOOKUP(K23,코드!$E$3:$F$5,2) -> G | V23: =LEFT(P23,1) -> G | W23: =EXACT(U23,V23) -> TRUE
A24: 19 | B24: 충북 증평군 | C24: 27927 | D24: 증평읍 창동리 94 | F24: 토지 | G24: 전 | I24: 36 | K24: 일반재산 | L24: 재무과 | M24: x | N24: 해당없음 | O24: 활용불가능 상태 | P24: G05 | Q24: =VLOOKUP(P24,코드!$B$3:$C$10,2) -> 단순 미활용 | R24: 화단 조성 | S24: 필요시 공공사업부지 활용 | U24: =VLOOKUP(K24,코드!$E$3:$F$5,2) -> G | V24: =LEFT(P24,1) -> G | W24: =EXACT(U24,V24) -> TRUE
A25: 20 | B25: 충북 증평군 | C25: 27927 | D25: 증평읍 창동리 536 | F25: 토지 | G25: 창고용지 | I25: 181 | K25: 일반재산 | L25: 재무과 | M25: x | N25: 해당없음 | O25: 활용불가능 상태 | P25: G05 | Q25: =VLOOKUP(P25,코드!$B$3:$C$10,2) -> 단순 미활용 | R25: 재활용 창고 시설 | S25: 필요시 공공사업부지 활용 | U25: =VLOOKUP(K25,코드!$E$3:$F$5,2) -> G | V25: =LEFT(P25,1) -> G | W25: =EXACT(U25,V25) -> TRUE
A26: 21 | B26: 충북 증평군 | C26: 27927 | D26: 증평읍 창동리 540 | F26: 토지 | G26: 대 | I26: 10 | K26: 일반재산 | L26: 재무과 | M26: x | N26: 해당없음 | O26: 활용불가능 상태 | P26: G05 | Q26: =VLOOKUP(P26,코드!$B$3:$C$10,2) -> 단순 미활용 | R26: 통행로 이용 | S26: 필요시 공공사업부지 활용 | U26: =VLOOKUP(K26,코드!$E$3:$F$5,2) -> G | V26: =LEFT(P26,1) -> G | W26: =EXACT(U26,V26) -> TRUE
A27: 22 | B27: 충북 증평군 | C27: 27920 | D27: 증평읍 장동리 67 | F27: 토지 | G27: 답 | I27: 1 | K27: 일반재산 | L27: 재무과 | M27: x | N27: 해당없음 | O27: 활용불가능 상태 | P27: G05 | Q27: =VLOOKUP(P27,코드!$B$3:$C$10,2) -> 단순 미활용 | R27: 도로이용 | S27: 필요시 공공사업부지 활용 | U27: =VLOOKUP(K27,코드!$E$3:$F$5,2) -> G | V27: =LEFT(P27,1) -> G | W27: =EXACT(U27,V27) -> TRUE
A28: 23 | B28: 충북 증평군 | C28: 27920 | D28: 증평읍 장동리 68-2 | F28: 토지 | G28: 답 | I28: 12 | K28: 일반재산 | L28: 재무과 | M28: x | N28: 해당없음 | O28: 활용불가능 상태 | P28: G05 | Q28: =VLOOKUP(P28,코드!$B$3:$C$10,2) -> 단순 미활용 | R28: 인도옆 사면 | S28: 필요시 공공사업부지 활용 | U28: =VLOOKUP(K28,코드!$E$3:$F$5,2) -> G | V28: =LEFT(P28,1) -> G | W28: =EXACT(U28,V28) -> TRUE
A29: 24 | B29: 충북 증평군 | C29: 27920 | D29: 증평읍 장동리 70 | F29: 토지 | G29: 철도용지 | I29: 72 | K29: 일반재산 | L29: 재무과 | M29: x | N29: 해당없음 | O29: 활용불가능 상태 | P29: G05 | Q29: =VLOOKUP(P29,코드!$B$3:$C$10,2) -> 단순 미활용 | R29: 인도옆 사면 | S29: 필요시 공공사업부지 활용 | U29: =VLOOKUP(K29,코드!$E$3:$F$5,2) -> G | V29: =LEFT(P29,1) -> G | W29: =EXACT(U29,V29) -> TRUE
A30: 25 | B30: 충북 증평군 | C30: 27920 | D30: 증평읍 장동리 70-2 | F30: 토지 | G30: 철도용지 | I30: 27 | K30: 일반재산 | L30: 재무과 | M30: x | N30: 해당없음 | O30: 활용불가능 상태 | P30: G05 | Q30: =VLOOKUP(P30,코드!$B$3:$C$10,2) -> 단순 미활용 | R30: 인도옆 사면 | S30: 필요시 공공사업부지 활용 | U30: =VLOOKUP(K30,코드!$E$3:$F$5,2) -> G | V30: =LEFT(P30,1) -> G | W30: =EXACT(U30,V30) -> TRUE
A31: 26 | B31: 충북 증평군 | C31: 27920 | D31: 증평읍 장동리 856-1 | F31: 토지 | G31: 도로 | I31: 52 | K31: 일반재산 | L31: 재무과 | M31: o | N31: 대부대상 | P31: G05 | Q31: =VLOOKUP(P31,코드!$B$3:$C$10,2) -> 단순 미활용 | R31: 단순미활용 | S31: 대부 또는 공공사업부지 활용 | U31: =VLOOKUP(K31,코드!$E$3:$F$5,2) -> G | V31: =LEFT(P31,1) -> G | W31: =EXACT(U31,V31) -> TRUE
A32: 27 | B32: 충북 증평군 | C32: 37933 | D32: 증평읍 증천리 431-3 | F32: 토지 | G32: 답 | I32: 6 | K32: 일반재산 | L32: 재무과 | M32: x | N32: 해당없음 | O32: 활용불가능 상태 | P32: G05 | Q32: =VLOOKUP(P32,코드!$B$3:$C$10,2) -> 단순 미활용 | R32: 통행로 이용 | S32: 필요시 공공사업부지 활용 | U32: =VLOOKUP(K32,코드!$E$3:$F$5,2) -> G | V32: =LEFT(P32,1) -> G | W32: =EXACT(U32,V32) -> TRUE
A33: 28 | B33: 충북 증평군 | C33: 27929 | D33: 증평읍 초중리 44-1 | F33: 토지 | G33: 창고용지 | I33: 439 | K33: 일반재산 | L33: 재무과 | M33: x | N33: 해당없음 | O33: 활용불가능 상태 | P33: G05 | Q33: =VLOOKUP(P33,코드!$B$3:$C$10,2) -> 단순 미활용 | R33: 재활용 창고 시설 | S33: 필요시 공공사업부지 활용 | U33: =VLOOKUP(K33,코드!$E$3:$F$5,2) -> G | V33: =LEFT(P33,1) -> G | W33: =EXACT(U33,V33) -> TRUE
A34: 29 | B34: 충북 증평군 | C34: 27929 | D34: 증평읍 초중리 44-7 | F34: 토지 | G34: 대 | I34: 39 | K34: 일반재산 | L34: 재무과 | M34: x | N34: 해당없음 | O34: 공공사업용지 활용 | P34: G05 | Q34: =VLOOKUP(P34,코드!$B$3:$C$10,2) -> 단순 미활용 | R34: 미활용 | S34: 공공사업용지 활용 | U34: =VLOOKUP(K34,코드!$E$3:$F$5,2) -> G | V34: =LEFT(P34,1) -> G | W34: =EXACT(U34,V34) -> TRUE
A35: 30 | B35: 충북 증평군 | C35: 27929 | D35: 증평읍 초중리 348-13 | F35: 토지 | G35: 전 | I35: 214 | K35: 일반재산 | L35: 재무과 | M35: o | N35: 대부대상 | P35: G05 | Q35: =VLOOKUP(P35,코드!$B$3:$C$10,2) -> 단순 미활용 | R35: 미활용 | S35: 대부 또는 공공사업부지 활용 | U35: =VLOOKUP(K35,코드!$E$3:$F$5,2) -> G | V35: =LEFT(P35,1) -> G | W35: =EXACT(U35,V35) -> TRUE
A36: 31 | B36: 충북 증평군 | C36: 27929 | D36: 증평읍 초중리 531-7 | F36: 토지 | G36: 잡종지 | I36: 175 | K36: 일반재산 | L36: 재무과 | M36: x | N36: 해당없음 | O36: 활용불가능 상태 | P36: G05 | Q36: =VLOOKUP(P36,코드!$B$3:$C$10,2) -> 단순 미활용 | R36: 쌈지공원(마을쉼터) | S36: 필요시 공공사업용지 활용 | U36: =VLOOKUP(K36,코드!$E$3:$F$5,2) -> G | V36: =LEFT(P36,1) -> G | W36: =EXACT(U36,V36) -> TRUE
A37: 32 | B37: 충북 증평군 | C37: 27913 | D37: 증평읍 연탄리 522-7 | F37: 토지 | G37: 대지 | I37: 153 | K37: 일반재산 | L37: 재무과 | M37: o | N37: 대부대상 | P37: G05 | Q37: =VLOOKUP(P37,코드!$B$3:$C$10,2) -> 단순 미활용 | R37: 미활용 | S37: 대부 또는 공공사업부지 활용 | U37: =VLOOKUP(K37,코드!$E$3:$F$5,2) -> G | V37: =LEFT(P37,1) -> G | W37: =EXACT(U37,V37) -> TRUE
A38: 33 | B38: 충북 증평군 | C38: 27913 | D38: 증평읍 연탄리 산31-6 | F38: 토지 | G38: 임야 | I38: 99 | K38: 일반재산 | L38: 재무과 | M38: x | N38: 해당없음 | O38: 집단화필지 | P38: G05 | Q38: =VLOOKUP(P38,코드!$B$3:$C$10,2) -> 단순 미활용 | R38: 미활용 | S38: 필요시 공공사업부지 활용 | U38: =VLOOKUP(K38,코드!$E$3:$F$5,2) -> G | V38: =LEFT(P38,1) -> G | W38: =EXACT(U38,V38) -> TRUE
A39: 34 | B39: 충북 증평군 | C39: 27918 | D39: 증평읍 송산리 산3 | F39: 토지 | G39: 임야 | I39: 111 | K39: 일반재산 | L39: 재무과 | M39: x | N39: 해당없음 | O39: 활용불가능 상태 | P39: G05 | Q39: =VLOOKUP(P39,코드!$B$3:$C$10,2) -> 단순 미활용 | R39: 공원 | S39: 필요시 공공사업부지 활용 | U39: =VLOOKUP(K39,코드!$E$3:$F$5,2) -> G | V39: =LEFT(P39,1) -> G | W39: =EXACT(U39,V39) -> TRUE
A40: 35 | B40: 충북 증평군 | C40: 27918 | D40: 증평읍 송산리 258-1 | F40: 토지 | G40: 답 | I40: 177 | K40: 일반재산 | L40: 재무과 | M40: x | N40: 해당없음 | O40: 활용불가능 상태 | P40: G05 | Q40: =VLOOKUP(P40,코드!$B$3:$C$10,2) -> 단순 미활용 | R40: 공원 | S40: 필요시 공공사업부지 활용 | U40: =VLOOKUP(K40,코드!$E$3:$F$5,2) -> G | V40: =LEFT(P40,1) -> G | W40: =EXACT(U40,V40) -> TRUE
A41: 36 | B41: 충북 증평군 | C41: 27918 | D41: 증평읍 송산리 261-1 | F41: 토지 | G41: 답 | I41: 170 | K41: 일반재산 | L41: 재무과 | M41: x | N41: 해당없음 | O41: 활용불가능 상태 | P41: G05 | Q41: =VLOOKUP(P41,코드!$B$3:$C$10,2) -> 단순 미활용 | R41: 공원 | S41: 필요시 공공사업부지 활용 | U41: =VLOOKUP(K41,코드!$E$3:$F$5,2) -> G | V41: =LEFT(P41,1) -> G | W41: =EXACT(U41,V41) -> TRUE
A42: 37 | B42: 충북 증평군 | C42: 27916 | D42: 증평읍 미암리 559-6 | F42: 토지 | G42: 답 | I42: 38 | K42: 일반재산 | L42: 재무과 | M42: x | N42: 해당없음 | O42: 활용불가능 상태 | P42: G05 | Q42: =VLOOKUP(P42,코드!$B$3:$C$10,2) -> 단순 미활용 | R42: 마을정자 | S42: 필요시 공공사업부지 활용 | U42: =VLOOKUP(K42,코드!$E$3:$F$5,2) -> G | V42: =LEFT(P42,1) -> G | W42: =EXACT(U42,V42) -> TRUE
A43: 38 | B43: 충북 증평군 | C43: 27916 | D43: 증평읍 미암리 582-4 | F43: 토지 | G43: 답 | I43: 14 | K43: 일반재산 | L43: 재무과 | M43: x | N43: 해당없음 | O43: 활용불가능 상태 | P43: G05 | Q43: =VLOOKUP(P43,코드!$B$3:$C$10,2) -> 단순 미활용 | R43: 통행로 이용 | S43: 필요시 공공사업부지 활용 | U43: =VLOOKUP(K43,코드!$E$3:$F$5,2) -> G | V43: =LEFT(P43,1) -> G | W43: =EXACT(U43,V43) -> TRUE
A44: 39 | B44: 충북 증평군 | C44: 27907 | D44: 증평읍 사곡리 274-4 | F44: 토지 | G44: 전 | I44: 873 | K44: 일반재산 | L44: 재무과 | M44: x | N44: 해당없음 | O44: 영농여건불리농지 | P44: G05 | Q44: =VLOOKUP(P44,코드!$B$3:$C$10,2) -> 단순 미활용 | R44: 미활용 | S44: 필요시 공공사업부지 활용 | U44: =VLOOKUP(K44,코드!$E$3:$F$5,2) -> G | V44: =LEFT(P44,1) -> G | W44: =EXACT(U44,V44) -> TRUE
A45: 40 | B45: 충북 증평군 | C45: 27909 | D45: 증평읍 용강리 11-5 | F45: 토지 | G45: 대 | I45: 2 | K45: 일반재산 | L45: 재무과 | M45: x | N45: 해당없음 | O45: 활용불가능 상태 | P45: G05 | Q45: =VLOOKUP(P45,코드!$B$3:$C$10,2) -> 단순 미활용 | R45: 소규모 면적 | S45: 필요시 공공사업부지 활용 | U45: =VLOOKUP(K45,코드!$E$3:$F$5,2) -> G | V45: =LEFT(P45,1) -> G | W45: =EXACT(U45,V45) -> TRUE
A46: 41 | B46: 충북 증평군 | C46: 27911 | D46: 증평읍 남차리 103-2 | F46: 토지 | G46: 답 | I46: 235 | K46: 일반재산 | L46: 재무과 | M46: o | N46: 대부대상 | O46: 대부 예정 | P46: G05 | Q46: =VLOOKUP(P46,코드!$B$3:$C$10,2) -> 단순 미활용 | R46: 대부 예정 재산 | S46: 대부 | U46: =VLOOKUP(K46,코드!$E$3:$F$5,2) -> G | V46: =LEFT(P46,1) -> G | W46: =EXACT(U46,V46) -> TRUE
A47: 42 | B47: 충북 증평군 | C47: 27911 | D47: 증평읍 남차리 103-3 | F47: 토지 | G47: 답 | I47: 312 | K47: 일반재산 | L47: 재무과 | M47: o | N47: 대부대상 | O47: 대부 예정 | P47: G05 | Q47: =VLOOKUP(P47,코드!$B$3:$C$10,2) -> 단순 미활용 | R47: 대부 예정 재산 | S47: 대부 | U47: =VLOOKUP(K47,코드!$E$3:$F$5,2) -> G | V47: =LEFT(P47,1) -> G | W47: =EXACT(U47,V47) -> TRUE
A48: 43 | B48: 충북 증평군 | C48: 27911 | D48: 증평읍 남차리 107-3 | F48: 토지 | G48: 전 | I48: 2409 | K48: 일반재산 | L48: 재무과 | M48: x | N48: 해당없음 | O48: 영농여건불리농지 | P48: G05 | Q48: =VLOOKUP(P48,코드!$B$3:$C$10,2) -> 단순 미활용 | R48: 미활용 | S48: 필요시 공공사업부지 활용 | U48: =VLOOKUP(K48,코드!$E$3:$F$5,2) -> G | V48: =LEFT(P48,1) -> G | W48: =EXACT(U48,V48) -> TRUE
A49: 44 | B49: 충북 증평군 | C49: 27911 | D49: 증평읍 남차리 107-4 | F49: 토지 | G49: 전 | I49: 585 | K49: 일반재산 | L49: 재무과 | M49: x | N49: 해당없음 | O49: 영농여건불리농지 | P49: G05 | Q49: =VLOOKUP(P49,코드!$B$3:$C$10,2) -> 단순 미활용 | R49: 미활용 | S49: 필요시 공공사업부지 활용 | U49: =VLOOKUP(K49,코드!$E$3:$F$5,2) -> G | V49: =LEFT(P49,1) -> G | W49: =EXACT(U49,V49) -> TRUE
... A207: 202 | B207: 충북 증평군 | C207: 27912 | D207: 도안면 도당리 707-1 | F207: 토지 | G207: 답 | I207: 195.8 | K207: 일반재산 | L207: 재무과 | M207: x | N207: 해당없음 | O207: 활용불가능 상태 | P207: G05 | Q207: =VLOOKUP(P207,코드!$B$3:$C$10,2) -> 단순 미활용 | R207: 도로 사면 | S207: 필요시 공공사업부지 활용 | U207: =VLOOKUP(K207,코드!$E$3:$F$5,2) -> G | V207: =LEFT(P207,1) -> G | W207: =EXACT(U207,V207) -> TRUE

Sheet 코드
B3: 코드 | C3: 유휴사유 분류 | E3: 구분 | F3: 코드
B4: A01 | C4: 사용허가 가능 재산(공실 등) | E4: 일반재산 | F4: G
B5: A02 | C5: 용도폐지 대상 | E5: 행정재산 | F5: A
B6: G01 | C6: 대부계약 만료 후 미대부 상태
B7: G02 | C7: 대부 예정 재산
B8: G03 | C8: 무단점유 재산
B9: G04 | C9: 누락재산 중 미활용 상태
B10: G05 | C10: 단순 미활용
